BEGIN:VCALENDAR
PRODID:http://www.kufer.de/kuferweb / DE
VERSION:2.0
METHOD:PUBLISH
CALSCALE:GREGORIAN
X-WR-TIMEZONE:Europe/Berlin
BEGIN:VTIMEZONE
TZID:Europe/Berlin
X-LIC-LOCATION:Europe/Berlin
BEGIN:DAYLIGHT
TZOFFSETFROM:+0100
TZOFFSETTO:+0200
TZNAME:CEST
DTSTART;TZID=Europe/Berlin:19700329T020000
RRULE:FREQ=YEARLY;INTERVAL=1;BYDAY=-1SU;BYMONTH=3
END:DAYLIGHT
BEGIN:STANDARD
TZOFFSETFROM:+0200
TZOFFSETTO:+0100
TZNAME:CET
DTSTART;TZID=Europe/Berlin:19701025T030000
RRULE:FREQ=YEARLY;INTERVAL=1;BYDAY=-1SU;BYMONTH=10
END:STANDARD
END:VTIMEZONE
BEGIN:VEVENT
DTSTAMP:20260419T152841
DTSTART;TZID=Europe/Berlin:20211005T163000
DTEND;TZID=Europe/Berlin:20211005T180000
UID:212-3617-20211005T163000@DEMOHAUSEN
SUMMARY:Eltern-Kind-Gruppe für Kinder ab 1 Jahr (212-3617) 
LOCATION:vhs-Haus; 1.Stock; Raum 18, Karl-Legien-Straße 12, 84453 Mühldorf
END:VEVENT
BEGIN:VEVENT
DTSTAMP:20260419T152841
DTSTART;TZID=Europe/Berlin:20211012T163000
DTEND;TZID=Europe/Berlin:20211012T180000
UID:212-3617-20211012T163000@DEMOHAUSEN
SUMMARY:Eltern-Kind-Gruppe für Kinder ab 1 Jahr (212-3617) 
LOCATION:vhs-Haus; 1.Stock; Raum 18, Karl-Legien-Straße 12, 84453 Mühldorf
END:VEVENT
BEGIN:VEVENT
DTSTAMP:20260419T152841
DTSTART;TZID=Europe/Berlin:20211019T163000
DTEND;TZID=Europe/Berlin:20211019T180000
UID:212-3617-20211019T163000@DEMOHAUSEN
SUMMARY:Eltern-Kind-Gruppe für Kinder ab 1 Jahr (212-3617) 
LOCATION:vhs-Haus; 1.Stock; Raum 18, Karl-Legien-Straße 12, 84453 Mühldorf
END:VEVENT
BEGIN:VEVENT
DTSTAMP:20260419T152841
DTSTART;TZID=Europe/Berlin:20211102T163000
DTEND;TZID=Europe/Berlin:20211102T180000
UID:212-3617-20211102T163000@DEMOHAUSEN
SUMMARY:Eltern-Kind-Gruppe für Kinder ab 1 Jahr (212-3617) 
LOCATION:vhs-Haus; 1.Stock; Raum 18, Karl-Legien-Straße 12, 84453 Mühldorf
END:VEVENT
BEGIN:VEVENT
DTSTAMP:20260419T152841
DTSTART;TZID=Europe/Berlin:20211109T163000
DTEND;TZID=Europe/Berlin:20211109T180000
UID:212-3617-20211109T163000@DEMOHAUSEN
SUMMARY:Eltern-Kind-Gruppe für Kinder ab 1 Jahr (212-3617) 
LOCATION:vhs-Haus; 1.Stock; Raum 18, Karl-Legien-Straße 12, 84453 Mühldorf
END:VEVENT
BEGIN:VEVENT
DTSTAMP:20260419T152841
DTSTART;TZID=Europe/Berlin:20211116T163000
DTEND;TZID=Europe/Berlin:20211116T180000
UID:212-3617-20211116T163000@DEMOHAUSEN
SUMMARY:Eltern-Kind-Gruppe für Kinder ab 1 Jahr (212-3617) 
LOCATION:vhs-Haus; 1.Stock; Raum 18, Karl-Legien-Straße 12, 84453 Mühldorf
END:VEVENT
BEGIN:VEVENT
DTSTAMP:20260419T152841
DTSTART;TZID=Europe/Berlin:20211123T163000
DTEND;TZID=Europe/Berlin:20211123T180000
UID:212-3617-20211123T163000@DEMOHAUSEN
SUMMARY:Eltern-Kind-Gruppe für Kinder ab 1 Jahr (212-3617) 
LOCATION:vhs-Haus; 1.Stock; Raum 18, Karl-Legien-Straße 12, 84453 Mühldorf
END:VEVENT
BEGIN:VEVENT
DTSTAMP:20260419T152841
DTSTART;TZID=Europe/Berlin:20211130T163000
DTEND;TZID=Europe/Berlin:20211130T180000
UID:212-3617-20211130T163000@DEMOHAUSEN
SUMMARY:Eltern-Kind-Gruppe für Kinder ab 1 Jahr (212-3617) 
LOCATION:vhs-Haus; 1.Stock; Raum 18, Karl-Legien-Straße 12, 84453 Mühldorf
END:VEVENT
BEGIN:VEVENT
DTSTAMP:20260419T152841
DTSTART;TZID=Europe/Berlin:20211207T163000
DTEND;TZID=Europe/Berlin:20211207T180000
UID:212-3617-20211207T163000@DEMOHAUSEN
SUMMARY:Eltern-Kind-Gruppe für Kinder ab 1 Jahr (212-3617) 
LOCATION:vhs-Haus; 1.Stock; Raum 18, Karl-Legien-Straße 12, 84453 Mühldorf
END:VEVENT
BEGIN:VEVENT
DTSTAMP:20260419T152841
DTSTART;TZID=Europe/Berlin:20211214T163000
DTEND;TZID=Europe/Berlin:20211214T180000
UID:212-3617-20211214T163000@DEMOHAUSEN
SUMMARY:Eltern-Kind-Gruppe für Kinder ab 1 Jahr (212-3617) 
LOCATION:vhs-Haus; 1.Stock; Raum 18, Karl-Legien-Straße 12, 84453 Mühldorf
END:VEVENT
BEGIN:VEVENT
DTSTAMP:20260419T152841
DTSTART;TZID=Europe/Berlin:20211221T163000
DTEND;TZID=Europe/Berlin:20211221T180000
UID:212-3617-20211221T163000@DEMOHAUSEN
SUMMARY:Eltern-Kind-Gruppe für Kinder ab 1 Jahr (212-3617) 
LOCATION:vhs-Haus; 1.Stock; Raum 18, Karl-Legien-Straße 12, 84453 Mühldorf
END:VEVENT
BEGIN:VEVENT
DTSTAMP:20260419T152841
DTSTART;TZID=Europe/Berlin:20211228T163000
DTEND;TZID=Europe/Berlin:20211228T180000
UID:212-3617-20211228T163000@DEMOHAUSEN
SUMMARY:Eltern-Kind-Gruppe für Kinder ab 1 Jahr (212-3617) 
LOCATION:vhs-Haus; 1.Stock; Raum 18, Karl-Legien-Straße 12, 84453 Mühldorf
END:VEVENT
BEGIN:VEVENT
DTSTAMP:20260419T152841
DTSTART;TZID=Europe/Berlin:20220104T163000
DTEND;TZID=Europe/Berlin:20220104T180000
UID:212-3617-20220104T163000@DEMOHAUSEN
SUMMARY:Eltern-Kind-Gruppe für Kinder ab 1 Jahr (212-3617) 
LOCATION:vhs-Haus; 1.Stock; Raum 18, Karl-Legien-Straße 12, 84453 Mühldorf
END:VEVENT
BEGIN:VEVENT
DTSTAMP:20260419T152841
DTSTART;TZID=Europe/Berlin:20220111T163000
DTEND;TZID=Europe/Berlin:20220111T180000
UID:212-3617-20220111T163000@DEMOHAUSEN
SUMMARY:Eltern-Kind-Gruppe für Kinder ab 1 Jahr (212-3617) 
LOCATION:vhs-Haus; 1.Stock; Raum 18, Karl-Legien-Straße 12, 84453 Mühldorf
END:VEVENT
BEGIN:VEVENT
DTSTAMP:20260419T152841
DTSTART;TZID=Europe/Berlin:20220118T163000
DTEND;TZID=Europe/Berlin:20220118T180000
UID:212-3617-20220118T163000@DEMOHAUSEN
SUMMARY:Eltern-Kind-Gruppe für Kinder ab 1 Jahr (212-3617) 
LOCATION:vhs-Haus; 1.Stock; Raum 18, Karl-Legien-Straße 12, 84453 Mühldorf
END:VEVENT
BEGIN:VEVENT
DTSTAMP:20260419T152841
DTSTART;TZID=Europe/Berlin:20220125T163000
DTEND;TZID=Europe/Berlin:20220125T180000
UID:212-3617-20220125T163000@DEMOHAUSEN
SUMMARY:Eltern-Kind-Gruppe für Kinder ab 1 Jahr (212-3617) 
LOCATION:vhs-Haus; 1.Stock; Raum 18, Karl-Legien-Straße 12, 84453 Mühldorf
END:VEVENT
BEGIN:VEVENT
DTSTAMP:20260419T152841
DTSTART;TZID=Europe/Berlin:20220201T163000
DTEND;TZID=Europe/Berlin:20220201T180000
UID:212-3617-20220201T163000@DEMOHAUSEN
SUMMARY:Eltern-Kind-Gruppe für Kinder ab 1 Jahr (212-3617) 
LOCATION:vhs-Haus; 1.Stock; Raum 18, Karl-Legien-Straße 12, 84453 Mühldorf
END:VEVENT
BEGIN:VEVENT
DTSTAMP:20260419T152841
DTSTART;TZID=Europe/Berlin:20220208T163000
DTEND;TZID=Europe/Berlin:20220208T180000
UID:212-3617-20220208T163000@DEMOHAUSEN
SUMMARY:Eltern-Kind-Gruppe für Kinder ab 1 Jahr (212-3617) 
LOCATION:vhs-Haus; 1.Stock; Raum 18, Karl-Legien-Straße 12, 84453 Mühldorf
END:VEVENT
BEGIN:VEVENT
DTSTAMP:20260419T152841
DTSTART;TZID=Europe/Berlin:20220215T163000
DTEND;TZID=Europe/Berlin:20220215T180000
UID:212-3617-20220215T163000@DEMOHAUSEN
SUMMARY:Eltern-Kind-Gruppe für Kinder ab 1 Jahr (212-3617) 
LOCATION:vhs-Haus; 1.Stock; Raum 18, Karl-Legien-Straße 12, 84453 Mühldorf
END:VEVENT
BEGIN:VEVENT
DTSTAMP:20260419T152841
DTSTART;TZID=Europe/Berlin:20220222T163000
DTEND;TZID=Europe/Berlin:20220222T180000
UID:212-3617-20220222T163000@DEMOHAUSEN
SUMMARY:Eltern-Kind-Gruppe für Kinder ab 1 Jahr (212-3617) 
LOCATION:vhs-Haus; 1.Stock; Raum 18, Karl-Legien-Straße 12, 84453 Mühldorf
END:VEVENT
BEGIN:VEVENT
DTSTAMP:20260419T152841
DTSTART;TZID=Europe/Berlin:20220301T163000
DTEND;TZID=Europe/Berlin:20220301T180000
UID:212-3617-20220301T163000@DEMOHAUSEN
SUMMARY:Eltern-Kind-Gruppe für Kinder ab 1 Jahr (212-3617) 
LOCATION:vhs-Haus; 1.Stock; Raum 18, Karl-Legien-Straße 12, 84453 Mühldorf
END:VEVENT
BEGIN:VEVENT
DTSTAMP:20260419T152841
DTSTART;TZID=Europe/Berlin:20220308T163000
DTEND;TZID=Europe/Berlin:20220308T180000
UID:212-3617-20220308T163000@DEMOHAUSEN
SUMMARY:Eltern-Kind-Gruppe für Kinder ab 1 Jahr (212-3617) 
LOCATION:vhs-Haus; 1.Stock; Raum 18, Karl-Legien-Straße 12, 84453 Mühldorf
END:VEVENT
BEGIN:VEVENT
DTSTAMP:20260419T152841
DTSTART;TZID=Europe/Berlin:20220315T163000
DTEND;TZID=Europe/Berlin:20220315T180000
UID:212-3617-20220315T163000@DEMOHAUSEN
SUMMARY:Eltern-Kind-Gruppe für Kinder ab 1 Jahr (212-3617) 
LOCATION:vhs-Haus; 1.Stock; Raum 18, Karl-Legien-Straße 12, 84453 Mühldorf
END:VEVENT
END:VCALENDAR